BEGIN:VCALENDAR
VERSION:2.0
PRODID:-//Wegbegleitung München - ECPv5.12.2//NONSGML v1.0//EN
CALSCALE:GREGORIAN
METHOD:PUBLISH
X-WR-CALNAME:Wegbegleitung München
X-ORIGINAL-URL:https://www.wegbegleitung-muenchen.com
X-WR-CALDESC:Veranstaltungen für Wegbegleitung München
BEGIN:VTIMEZONE
TZID:Europe/Berlin
BEGIN:DAYLIGHT
TZOFFSETFROM:+0100
TZOFFSETTO:+0200
TZNAME:CEST
DTSTART:20200329T010000
END:DAYLIGHT
BEGIN:STANDARD
TZOFFSETFROM:+0200
TZOFFSETTO:+0100
TZNAME:CET
DTSTART:20201025T010000
END:STANDARD
END:VTIMEZONE
BEGIN:VEVENT
DTSTART;TZID=Europe/Berlin:20201003T170000
DTEND;TZID=Europe/Berlin:20201003T180000
DTSTAMP:20260422T153952
CREATED:20200911T092734Z
LAST-MODIFIED:20200911T092734Z
UID:4089-1601744400-1601748000@www.wegbegleitung-muenchen.com
SUMMARY:Joggen an der Isar HINTERBLIEBENE
DESCRIPTION:Treffpunkt:  \nKiosk 1917\nTierparkstr. 2\n81379 München\nRoutenbeschreibung zum Treffpunkt \nStartzeit: 17:00 – 18:00 Uhr \n Preis pro Person: nur mit eine Werte- Karte buchbar \n5er-Werte-Karte: 38\,- \nAchtung:\nBitte beachten Sie\, dass  Sie bei unseren Angeboten den konditionellen und technischen Anforderungen gewachsen sein müssen.
URL:https://www.wegbegleitung-muenchen.com/kalender/joggen-an-der-isar-hinterbliebene-45/
LOCATION:Kiosk 1917\, Tierparkstr. 2\, München\, 81379\, Deutschland
ATTACH;FMTTYPE=image/jpeg:https://www.wegbegleitung-muenchen.com/wp-content/uploads/2018/05/Fotolia_137729518_M_Angebote.jpg
END:VEVENT
END:VCALENDAR