BEGIN:VCALENDAR
VERSION:2.0
PRODID:-//Wegbegleitung München - ECPv5.12.2//NONSGML v1.0//EN
CALSCALE:GREGORIAN
METHOD:PUBLISH
X-WR-CALNAME:Wegbegleitung München
X-ORIGINAL-URL:https://www.wegbegleitung-muenchen.com
X-WR-CALDESC:Veranstaltungen für Wegbegleitung München
BEGIN:VTIMEZONE
TZID:Europe/Berlin
BEGIN:DAYLIGHT
TZOFFSETFROM:+0100
TZOFFSETTO:+0200
TZNAME:CEST
DTSTART:20200329T010000
END:DAYLIGHT
BEGIN:STANDARD
TZOFFSETFROM:+0200
TZOFFSETTO:+0100
TZNAME:CET
DTSTART:20201025T010000
END:STANDARD
END:VTIMEZONE
BEGIN:VEVENT
DTSTART;TZID=Europe/Berlin:20200214T170000
DTEND;TZID=Europe/Berlin:20200214T213000
DTSTAMP:20260426T025237
CREATED:20191212T194202Z
LAST-MODIFIED:20200110T135502Z
UID:3785-1581699600-1581715800@www.wegbegleitung-muenchen.com
SUMMARY:Letzte Hilfe Kurs  für alle BÜRGERINNEN und BÜRGER - Pfarrei St. Bruder Klaus\, München Waldperlach
DESCRIPTION:Kurs vorerst ausgebucht !\n\nLetzte Hilfe Kurse\nvermitteln Basiswissen und Orientierungen sowie einfache Handgriffe. Sterbebegleitung ist keine Expertenwissenschaft\, sondern\npraktizierte Mitmenschlichkeit die auch in der Familie und der Nachbarschaft möglich und nötig ist.\nWir möchten Grundwissen an die Hand geben und ermutigen\, sich Schwerst-kranken und Sterbenden zuzuwenden. Denn Zuwendung ist das\,\nwas wir am Ende des Lebens am meisten brauchen.\n\nWir arbeiten mit dem Original Konzept nach Dr. Georg Bollig aus Schleswig\n\nunserer Ausbildung zur Letzen Hilfe Kursleiterinnen https://www.letztehilfe.info/ \nVeranstaltungsort:\nParrhaus (Pfarrbüro) St. Bruder Klaus\nPutzbunner Str. 272\n81739 München / Waldperlach\nRoutenbeschreibung zum Treffpunkt \nAnreisemöglichkeiten: \n\nmit dem Auto\n\nmit den Öffentlichen\nBus 55 / Ausstieg: am Hain\n\nTreffpunkt vor Ort:\n17:00 Uhr \n\n\n\n\n\n\nAblauf: \n\nStart: 17:00 Uhr\n\nin den Pausen:\nZeit zum Austausch und\nStärkung mit Brezen\, Kaffee…\nEnde: ca. 21.30 Uhr\n\nKursleiterinnen: \n\nAnnemarie Schmid\nZertifizierte Trauerbegleiterin/ Hospizbegleiterin\nAndrea Gerstner\nPalliativ Care Krankenschwester / Zertifizierte Trauerbegleiterin\n\n\nDie Kursinhalte:\n\nModul 1:\nSterben ein Teil des Lebens\nModul 2:\nVorsorgen und entscheiden\n(Vorsorgevollmacht /Patientenverfügung)\nModul 3:\nLeiden lindern\n(Palliative Versorgung)\nModul 4:\nAbschied nehmen\n\nAnmeldung: \n\nAnmeldeschluss\n1 Tage vor Termin\nAnmeldung\nist verbindlich\nTeilnehmeranzahl\nist begrenzt\n\nWir stehen Ihnen bei Fragen jeder Zeit zur Verfügung \n\n\nAnnemarie Schmid\n08062 6759\n\nAndrea Gerstner\n0170 446 6026\n\nUnkostenbeitrag: \n\n10.- Euro\ninkl. Infomaterial\nGetränke und Imbiss\nTeilnahnebestätigung\nZAHLUNG VOR ORT 
URL:https://www.wegbegleitung-muenchen.com/kalender/letzte-hilfe-kurs-fuer-alle-buergerinnen-und-buerger-pfarrei-st-bruder-klaus-muenchen-waldperlach/
END:VEVENT
END:VCALENDAR