BEGIN:VCALENDAR
VERSION:2.0
PRODID:-//Wegbegleitung München - ECPv5.12.2//NONSGML v1.0//EN
CALSCALE:GREGORIAN
METHOD:PUBLISH
X-WR-CALNAME:Wegbegleitung München
X-ORIGINAL-URL:https://www.wegbegleitung-muenchen.com
X-WR-CALDESC:Veranstaltungen für Wegbegleitung München
BEGIN:VTIMEZONE
TZID:Europe/Berlin
BEGIN:DAYLIGHT
TZOFFSETFROM:+0100
TZOFFSETTO:+0200
TZNAME:CEST
DTSTART:20200329T010000
END:DAYLIGHT
BEGIN:STANDARD
TZOFFSETFROM:+0200
TZOFFSETTO:+0100
TZNAME:CET
DTSTART:20201025T010000
END:STANDARD
END:VTIMEZONE
BEGIN:VEVENT
DTSTART;TZID=Europe/Berlin:20200316T143000
DTEND;TZID=Europe/Berlin:20200316T160000
DTSTAMP:20260425T140619
CREATED:20200213T121817Z
LAST-MODIFIED:20200213T121817Z
UID:3869-1584369000-1584374400@www.wegbegleitung-muenchen.com
SUMMARY:Trauer-Café im Alten- und Service-Zentrum Riem
DESCRIPTION:verbindliche Anmeldung bitte ausschließlich telefonisch über:\n\nAlten– und Service-Zentrum\nRiem\n089/ 41 42 43 96 0\n\nTreffpunkt:\n\nBRK-Kreisverband \nAlten- und Service-Zentrum\nRiem\nPlatz der Menschenrechte 10\n81829 München\nRutenbeschreibung zum Treffpunkt \nAnfahrt: \n\nU-Bahn-Haltestelle:\nU2 Messestadt West\nBus-Haltestellen:\nHelsinkistraße\nParkplätze vorhanden\n\njeweils am Montag:  \n\njeden 2. Montag des Monats\n14:30 Uhr – 16:00 Uhr\n\nAblauf:\n\nVorstellung meiner Person und des Ablaufes\nEingangsrunde\nEntwicklung eines Themas\naus der Eingangsrunde\nImpuls bei Bedarf\nGesprächsrunde\nAbschiedsrunde\nfür das leibliche Wohl ist gesorgt\n\nAnmeldung:\n\nAnmeldeschluss\n1 Tage vor Termin\nTeilnehmeranzahl\nist begrenzt\nverbindliche Anmeldung\ntelefonisch\n089/ 41 42 43 96 0\nVergütung\nkostenlos
URL:https://www.wegbegleitung-muenchen.com/kalender/trauer-cafe-im-alten-und-service-zentrum-riem-6/
LOCATION:Alten- und Service-Zentrum Riem\, Platz der Menschenrechte 10\, München\, 81829
ATTACH;FMTTYPE=image/jpeg:https://www.wegbegleitung-muenchen.com/wp-content/uploads/2019/06/Bild-für-Trauer-Café-e1559637911127.jpg
END:VEVENT
END:VCALENDAR