BEGIN:VCALENDAR
VERSION:2.0
PRODID:-//Wegbegleitung München - ECPv5.12.2//NONSGML v1.0//EN
CALSCALE:GREGORIAN
METHOD:PUBLISH
X-WR-CALNAME:Wegbegleitung München
X-ORIGINAL-URL:https://www.wegbegleitung-muenchen.com
X-WR-CALDESC:Veranstaltungen für Wegbegleitung München
BEGIN:VTIMEZONE
TZID:Europe/Berlin
BEGIN:DAYLIGHT
TZOFFSETFROM:+0100
TZOFFSETTO:+0200
TZNAME:CEST
DTSTART:20200329T010000
END:DAYLIGHT
BEGIN:STANDARD
TZOFFSETFROM:+0200
TZOFFSETTO:+0100
TZNAME:CET
DTSTART:20201025T010000
END:STANDARD
END:VTIMEZONE
BEGIN:VEVENT
DTSTART;TZID=Europe/Berlin:20201010T074500
DTEND;TZID=Europe/Berlin:20201010T170000
DTSTAMP:20260422T110345
CREATED:20200911T092514Z
LAST-MODIFIED:20200918T090704Z
UID:4086-1602315900-1602349200@www.wegbegleitung-muenchen.com
SUMMARY:Trauerangebot AETAS - leichte Bergwanderung HINTERBLIEBENE
DESCRIPTION:Bahnhof Schliersee – wandern wir über die Huberalm weiter auf dem Panoramaweg zur Gindelalm (Brotzeit). \nWeiter zur Neureuther Alm dort Hütteneinkehr.  Abstieg zum Bahnhof Tegernsee\n(Änderungen vorbehalten) \nSeien Sie bitte am Vortag der Tour ab ca. 17 Uhr telefonisch erreichbar um mögliche Änderungen zu besprechen. \nHöhenmeter: ca. 600  hm \nStrecke: 12\,7 km \nGehzeit: ca. 4 h \nEinkehr: Neureuther Alm  \nVergessen Sie bitte nicht\, einen Nasen- und Mundschutz mitzunehnen!!\nAußerdem außreichend Brotzeit und Getränke\, im Falle\, dass eine Einkehr nicht möglich ist.\n  \nTreffpunkt:\nbis spätestens: 7:45 Uhr\nam BOB Infostand\nbitte pünktlich sein! \nHAUPTBAHNHOF\nStarnberger Flügelbahnhof\nArnulfstr. 3\n80335 München\nRutenbeschreibung zum Treffpunkt \nAbfahrt:\nmit der BOB 86957 Richtung Tegernsee um 8:04 Uhr\nZusammenschluss zum\n“Gruppen – Ticket” möglich \nRückkehr: voraussichtlich\n17:00 Uhr\nam Hauptbahnhof München \nPreis pro Person: 30\,- €\n(zzgl. anteilig Fahrtkosten für Gruppen – Ticket) \nKinder bis 7 Jahre: kostenlos \nAchtung:\nEine leichte Bergtour ist alpiner als eine anspruchsvolle Wanderung! Bitte beachten Sie\, dass  Sie bei unseren  Touren den konditionellen und technischen Anforderungen gewachsen sein müssen. \n 
URL:https://www.wegbegleitung-muenchen.com/kalender/trauerangebot-aetas-leichte-bergwanderung-hinterbliebene-12/
LOCATION:Hauptbahnhof München Infostand BOB\, Bayerstr. 10A\, München\, 80335\, Deutschland
ATTACH;FMTTYPE=image/jpeg:https://www.wegbegleitung-muenchen.com/wp-content/uploads/2018/05/Fotolia_65621789_M_Angebote.jpg
END:VEVENT
END:VCALENDAR